BEGIN:VCALENDAR
VERSION:2.0
PRODID:-//wp-events-plugin.com//7.2.3.1//EN
TZID:Europe/Paris
X-WR-TIMEZONE:Europe/Paris
BEGIN:VEVENT
UID:376@educateurcanin-carvin.fr
DTSTART;TZID=Europe/Paris:20260329T104500
DTEND;TZID=Europe/Paris:20260329T121500
DTSTAMP:20260218T133441Z
URL:https://educateurcanin-carvin.fr/events/cani-marche-10/
SUMMARY:Cani marche
DESCRIPTION:
CATEGORIES:cani marche
LOCATION:Cani-marche\, Rue du pont de la batterie\, Courrières\, 62710\, F
 rance
X-APPLE-STRUCTURED-LOCATION;VALUE=URI;X-ADDRESS=Rue du pont de la batterie\
 , Courrières\, 62710\, France;X-APPLE-RADIUS=100;X-TITLE=Cani-marche:geo:
 0,0
END:VEVENT
BEGIN:VTIMEZONE
TZID:Europe/Paris
X-LIC-LOCATION:Europe/Paris
BEGIN:DAYLIGHT
DTSTART:20260329T030000
TZOFFSETFROM:+0100
TZOFFSETTO:+0200
TZNAME:CEST
END:DAYLIGHT
END:VTIMEZONE
END:VCALENDAR